BEGIN:VCALENDAR
VERSION:2.0
PRODID:-//Settle Stories - ECPv6.15.18//NONSGML v1.0//EN
CALSCALE:GREGORIAN
METHOD:PUBLISH
X-WR-CALNAME:Settle Stories
X-ORIGINAL-URL:https://settlestories.org.uk
X-WR-CALDESC:Events for Settle Stories
REFRESH-INTERVAL;VALUE=DURATION:PT1H
X-Robots-Tag:noindex
X-PUBLISHED-TTL:PT1H
BEGIN:VTIMEZONE
TZID:Europe/London
BEGIN:DAYLIGHT
TZOFFSETFROM:+0000
TZOFFSETTO:+0100
TZNAME:BST
DTSTART:20250330T010000
END:DAYLIGHT
BEGIN:STANDARD
TZOFFSETFROM:+0100
TZOFFSETTO:+0000
TZNAME:GMT
DTSTART:20251026T010000
END:STANDARD
BEGIN:DAYLIGHT
TZOFFSETFROM:+0000
TZOFFSETTO:+0100
TZNAME:BST
DTSTART:20260329T010000
END:DAYLIGHT
BEGIN:STANDARD
TZOFFSETFROM:+0100
TZOFFSETTO:+0000
TZNAME:GMT
DTSTART:20261025T010000
END:STANDARD
BEGIN:DAYLIGHT
TZOFFSETFROM:+0000
TZOFFSETTO:+0100
TZNAME:BST
DTSTART:20270328T010000
END:DAYLIGHT
BEGIN:STANDARD
TZOFFSETFROM:+0100
TZOFFSETTO:+0000
TZNAME:GMT
DTSTART:20271031T010000
END:STANDARD
END:VTIMEZONE
BEGIN:VEVENT
DTSTART;TZID=Europe/London:20260711T140000
DTEND;TZID=Europe/London:20260711T160000
DTSTAMP:20260420T061245
CREATED:20260317T152644Z
LAST-MODIFIED:20260408T094547Z
UID:10000079-1783778400-1783785600@settlestories.org.uk
SUMMARY:How To Find And Tell Your Story
DESCRIPTION:You have stories. Learn how to find one and tell it well.\nA practical 2-hour workshop that turns lived moments into stories people listen to. \nThis workshop is for people who struggle to tell their own stories. If you go blank when asked to share an experience\, talk in circles\, or aren’t sure what makes a story worth telling – this is for you. \nIn this practical 2-hour online workshop\, you’ll learn how to spot stories in your own life\, shape them using a simple structure\, and tell one story with confidence. \nYou’ll leave with one story shaped and told aloud\, and tools you can reuse.\n\nWhat You’ll Learn \n\nHow to recognise which moments contain real stories\nA clear story structure that works every time\nHow to open a story and keep people listening\nHow to cut what isn’t needed\nPractice telling your story out loud\n\nThis Workshop Is For You If \n\nYou freeze when someone asks you to tell a story\nYou need to use personal stories in work\, interviews\, or everyday life\nYou’re curious about storytelling but don’t know where to start\nTeachers\, therapists\, managers\, parents\, job-seekers – anyone who needs to hold attention\n\nWhat People Said About the February Workshop\n“Unlocked something I’ve been blocked on for a very long time. Solid gold.”- Clare \n“The content was well presented and explained and I felt relaxed enough to risk telling a very personal story and thoroughly enjoyed the experience and my listeners’ reactions.”- Umi \n“Fun\, engaging\, productive\, nourishing: definitely worth getting up at 6am for.”- Delta\, USA \nPractical Details\nDate: Saturday 11th July 2026\, 2-4pm GMT\nFormat: Online (Zoom)\nPrice: £16.50 / £12.50 Early Bird until 28th May\nExperience needed: None.
URL:https://settlestories.org.uk/whats-on-event/how-to-find-and-tell-your-story-2/
LOCATION:https://settlestories.org.uk/whats-on-event/how-to-find-and-tell-your-story-2/
CATEGORIES:Networking,Workshop
ATTACH;FMTTYPE=image/jpeg:https://settlestories.org.uk/wp-content/uploads/2026/03/Event-Page-Image-for-Website-1536x864-1.jpg
END:VEVENT
BEGIN:VEVENT
DTSTART;VALUE=DATE:20260714
DTEND;VALUE=DATE:20260715
DTSTAMP:20260420T061245
CREATED:20260407T155046Z
LAST-MODIFIED:20260407T155046Z
UID:10000081-1783987200-1784073599@settlestories.org.uk
SUMMARY:FREE Creative Technology Skills Training for Adults
DESCRIPTION:Extending XR is a FREE creative technology training programme for adults who live in North Yorkshire delivered by the XR Stories project team from the University of York. Running at Settle Stories in June and July 2026\, Extending XR consists of three short\, practical workshops covering 3D scanning and modelling\, animation and performance capture and creating a virtual environment. The programme aims to equip participants with the skills and confidence to explore new technologies\, either as part of a hobby\, an existing role\, or as a potential future career path. Training is pitched at a foundational level and no prior experience is required. All equipment is provided and both daytime and evening sessions are available (2pm-4pm and 6pm-8pm) \nWorkshop Two: Character animation and performance capture \nLearn how to apply animations to a virtual character and record animations using a webcam and AI software to automate tasks and enhance efficiency. Participants will gain skills in the following software and technologies: \n\nMixamo\, a web-based library of 3D character animation\nRokoko Vision\, a free AI motion capture tool\nBlender\, a free\, 3D graphics software platform used for creating 3D art and animations.\n\nWho is this for: Anyone with an interest in using motion capture and animation to bring physical objects or beings to life within a virtual environment. \nVisit the XR Stories website to find out more and book your free place.
URL:https://settlestories.org.uk/whats-on-event/free-creative-technology-skills-training-for-adults/
LOCATION:The Joinery\, Dawsons Court\, Market Place\, Settle\, North Yorkshire\, BD24 9ED\, United Kingdom
CATEGORIES:Workshop
ATTACH;FMTTYPE=image/jpeg:https://settlestories.org.uk/wp-content/uploads/2026/04/3.jpg
END:VEVENT
BEGIN:VEVENT
DTSTART;VALUE=DATE:20260721
DTEND;VALUE=DATE:20260722
DTSTAMP:20260420T061245
CREATED:20260407T155645Z
LAST-MODIFIED:20260407T155645Z
UID:10000082-1784592000-1784678399@settlestories.org.uk
SUMMARY:FREE Creative Technology Skills Training for Adults
DESCRIPTION:Extending XR is a FREE creative technology training programme for adults who live in North Yorkshire delivered by the XR Stories project team from the University of York. Running at Settle Stories in June and July 2026\, Extending XR consists of three short\, practical workshops covering 3D scanning and modelling\, animation and performance capture and creating a virtual environment. The programme aims to equip participants with the skills and confidence to explore new technologies\, either as part of a hobby\, an existing role\, or as a potential future career path. Training is pitched at a foundational level and no prior experience is required. All equipment is provided and both daytime and evening sessions are available (2pm-4pm and 6pm-8pm) \nWorkshop Three: Virtual world creation and exploration \nLearn how to create a virtual world using online resources and your own real world scans. You will then explore the world using a smart device to position the virtual camera\, set up shots and adjust camera settings. Participants will gain skills in the following software and technologies: \n\nVirtual world creation in Blender\, a free 3D graphics software platform used for creating 3D art and animations.\nDynamic virtual camera control driven by real-world motion streamed from your tablet or phone to Blender.\n\nWho is this for: Anyone interested in creating virtual worlds and exploring these worlds dynamically and intuitively. \nVisit the XR Stories website to find out more and book your free place.
URL:https://settlestories.org.uk/whats-on-event/free-creative-technology-skills-training-for-adults-2/
LOCATION:The Joinery\, Dawsons Court\, Market Place\, Settle\, North Yorkshire\, BD24 9ED\, United Kingdom
CATEGORIES:Workshop
ATTACH;FMTTYPE=image/jpeg:https://settlestories.org.uk/wp-content/uploads/2026/04/4.jpg
END:VEVENT
END:VCALENDAR