BEGIN:VCALENDAR
VERSION:2.0
PRODID:-//Settle Stories - ECPv6.15.18//NONSGML v1.0//EN
CALSCALE:GREGORIAN
METHOD:PUBLISH
X-WR-CALNAME:Settle Stories
X-ORIGINAL-URL:https://settlestories.org.uk
X-WR-CALDESC:Events for Settle Stories
REFRESH-INTERVAL;VALUE=DURATION:PT1H
X-Robots-Tag:noindex
X-PUBLISHED-TTL:PT1H
BEGIN:VTIMEZONE
TZID:Europe/London
BEGIN:DAYLIGHT
TZOFFSETFROM:+0000
TZOFFSETTO:+0100
TZNAME:BST
DTSTART:20250330T010000
END:DAYLIGHT
BEGIN:STANDARD
TZOFFSETFROM:+0100
TZOFFSETTO:+0000
TZNAME:GMT
DTSTART:20251026T010000
END:STANDARD
BEGIN:DAYLIGHT
TZOFFSETFROM:+0000
TZOFFSETTO:+0100
TZNAME:BST
DTSTART:20260329T010000
END:DAYLIGHT
BEGIN:STANDARD
TZOFFSETFROM:+0100
TZOFFSETTO:+0000
TZNAME:GMT
DTSTART:20261025T010000
END:STANDARD
BEGIN:DAYLIGHT
TZOFFSETFROM:+0000
TZOFFSETTO:+0100
TZNAME:BST
DTSTART:20270328T010000
END:DAYLIGHT
BEGIN:STANDARD
TZOFFSETFROM:+0100
TZOFFSETTO:+0000
TZNAME:GMT
DTSTART:20271031T010000
END:STANDARD
END:VTIMEZONE
BEGIN:VEVENT
DTSTART;TZID=Europe/London:20260305T093000
DTEND;TZID=Europe/London:20260305T100000
DTSTAMP:20260419T145458
CREATED:20260205T110951Z
LAST-MODIFIED:20260313T110341Z
UID:13774-1772703000-1772704800@settlestories.org.uk
SUMMARY:World Book Day Interview: A.F. Steadman
DESCRIPTION:World Book Day Interview: A.F. Steadman\nGet ready to take flight with bestselling fantasy author A.F. Steadman\, creator of the smash-hit Skandar series! \nA.F. Steadman was training to be a lawyer when she had a life-changing idea about warrior unicorns — and everything changed. She swapped law for writing\, and that idea became Skandar and the Unicorn Thief\, a global phenomenon and Waterstones Children’s Book of the Year. \nIn this exciting World Book Day interview\, Annabel will introduce her World Book Day book Skandar and the Secret Element and take pupils behind the scenes of her magical world. Discover the mysterious island where young riders bond with fierce unicorns\, learn elemental magic\, and face dangerous secrets and epic battles. \nExpect thrills\, imagination\, and lots of inspiration as we explore how stories grow from a single idea into an unforgettable adventure. \nPerfect for primary readers who love fantasy\, magic\, and daring heroes.
URL:https://settlestories.org.uk/whats-on-event/world-book-day-interview-a-f-steadman/
CATEGORIES:KS1,LKS2,UKS2
ATTACH;FMTTYPE=application/pdf:https://settlestories.org.uk/wp-content/uploads/2026/02/Event-Page-Image-for-Website-1.pdf
LOCATION:https://settlestories.org.uk/whats-on-event/world-book-day-interview-a-f-steadman/
END:VEVENT
END:VCALENDAR